OziExplorer Map Data File Version 2.2
3366_Obornik_geognostisch-agronomische_1900.jpg
G:\skany\mess-glebowe\3366_Obornik_geognostisch-agronomische_1900.jpg
1 ,Map Code,
Potsdam Rauenberg DHDN,, 0.0000, 0.0000,WGS 84
Reserved 1
Reserved 2
Magnetic Variation,,,E
Map Projection,Transverse Mercator,PolyCal,No,AutoCalOnly,No,BSBUseWPX,No
Point01,xy, 908, 518,in, deg, 52, 42,N, 16, 40,E, grid, , , ,N
Point02,xy, 6229, 518,in, deg, 52, 42,N, 16, 50,E, grid, , , ,N
Point03,xy, 6226, 5749,in, deg, 52, 36,N, 16, 50,E, grid, , , ,N
Point04,xy, 893, 5735,in, deg, 52, 36,N, 16, 40,E, grid, , , ,N
Point05,xy, , ,in, deg, , ,N, , ,E, grid, , , ,N
Point06,xy, , ,in, deg, , ,N, , ,E, grid, , , ,N
Point07,xy, , ,in, deg, , ,N, , ,E, grid, , , ,N
Point08,xy, , ,in, deg, , ,N, , ,E, grid, , , ,N
Point09,xy, , ,in, deg, , ,N, , ,E, grid, , , ,N
Point10,xy, , ,in, deg, , ,N, , ,E, grid, , , ,N
Point11,xy, , ,in, deg, , ,N, , ,E, grid, , , ,N
Point12,xy, , ,in, deg, , ,N, , ,E, grid, , , ,N
Point13,xy, , ,in, deg, , ,N, , ,E, grid, , , ,N
Point14,xy, , ,in, deg, , ,N, , ,E, grid, , , ,N
Point15,xy, , ,in, deg, , ,N, , ,E, grid, , , ,N
Point16,xy, , ,in, deg, , ,N, , ,E, grid, , , ,N
Point17,xy, , ,in, deg, , ,N, , ,E, grid, , , ,N
Point18,xy, , ,in, deg, , ,N, , ,E, grid, , , ,N
Point19,xy, , ,in, deg, , ,N, , ,E, grid, , , ,N
Point20,xy, , ,in, deg, , ,N, , ,E, grid, , , ,N
Point21,xy, , ,in, deg, , ,N, , ,E, grid, , , ,N
Point22,xy, , ,in, deg, , ,N, , ,E, grid, , , ,N
Point23,xy, , ,in, deg, , ,N, , ,E, grid, , , ,N
Point24,xy, , ,in, deg, , ,N, , ,E, grid, , , ,N
Point25,xy, , ,in, deg, , ,N, , ,E, grid, , , ,N
Point26,xy, , ,in, deg, , ,N, , ,E, grid, , , ,N
Point27,xy, , ,in, deg, , ,N, , ,E, grid, , , ,N
Point28,xy, , ,in, deg, , ,N, , ,E, grid, , , ,N
Point29,xy, , ,in, deg, , ,N, , ,E, grid, , , ,N
Point30,xy, , ,in, deg, , ,N, , ,E, grid, , , ,N
Projection Setup, 0.000000000, 18.000000000, 1.000000000, 6500000.00, 0.00,,,,,
Map Feature = MF ; Map Comment = MC These follow if they exist
Track File = TF These follow if they exist
Moving Map Parameters = MM? These follow if they exist
MM0,Yes
MMPNUM,4
MMPXY,1, 908, 518
MMPXY,2, 6229, 518
MMPXY,3, 6226, 5749
MMPXY,4, 893, 5735
MMPLL,1,16.6666666666667,52.7
MMPLL,2,16.8333333333333,52.7
MMPLL,3,16.8333333333333,52.6
MMPLL,4,16.6666666666667,52.6
MM1B,2.116041
LL Grid Setup
LLGRID,Yes,1 Min,Yes,255,16711680,0,1 Min,0,16777215,8,1,Yes,x
Other Grid Setup
GRGRID,Yes,1 Km,Yes,255,255,1 Km,255,16777215,8,0,Yes,No,Yes,x
MOP,Map Open Position,0,0
IWH,Map Image Width/Height,7056,6708
