OziExplorer Map Data File Version 2.2
2961_Regenthin_kr_1937.jpg
G:\mapy-hist\AMZP-UPLOAD\Katarzyna Ruszczak\gotowe\2961_Regenthin_kr_1937.jpg
1 ,Map Code,
Potsdam Rauenberg DHDN,, 0.0000, 0.0000,WGS 84
Reserved 1
Reserved 2
Magnetic Variation,,,E
Map Projection,Transverse Mercator,PolyCal,No,AutoCalOnly,No,BSBUseWPX,No
Point01,xy, 695, 700,in, deg, 53, 6,N, 15, 50,E, grid, , , ,N
Point02,xy, 5978, 718,in, deg, 53, 6,N, 16, 0,E, grid, , , ,N
Point03,xy, 5964, 5973,in, deg, 53, 0,N, 16, 0,E, grid, , , ,N
Point04,xy, 678, 5936,in, deg, 53, 0,N, 15, 50,E, grid, , , ,N
Point05,xy, , ,in, deg, , ,N, , ,E, grid, , , ,N
Point06,xy, , ,in, deg, , ,N, , ,E, grid, , , ,N
Point07,xy, , ,in, deg, , ,N, , ,E, grid, , , ,N
Point08,xy, , ,in, deg, , ,N, , ,E, grid, , , ,N
Point09,xy, , ,in, deg, , ,N, , ,E, grid, , , ,N
Point10,xy, , ,in, deg, , ,N, , ,E, grid, , , ,N
Point11,xy, , ,in, deg, , ,N, , ,E, grid, , , ,N
Point12,xy, , ,in, deg, , ,N, , ,E, grid, , , ,N
Point13,xy, , ,in, deg, , ,N, , ,E, grid, , , ,N
Point14,xy, , ,in, deg, , ,N, , ,E, grid, , , ,N
Point15,xy, , ,in, deg, , ,N, , ,E, grid, , , ,N
Point16,xy, , ,in, deg, , ,N, , ,E, grid, , , ,N
Point17,xy, , ,in, deg, , ,N, , ,E, grid, , , ,N
Point18,xy, , ,in, deg, , ,N, , ,E, grid, , , ,N
Point19,xy, , ,in, deg, , ,N, , ,E, grid, , , ,N
Point20,xy, , ,in, deg, , ,N, , ,E, grid, , , ,N
Point21,xy, , ,in, deg, , ,N, , ,E, grid, , , ,N
Point22,xy, , ,in, deg, , ,N, , ,E, grid, , , ,N
Point23,xy, , ,in, deg, , ,N, , ,E, grid, , , ,N
Point24,xy, , ,in, deg, , ,N, , ,E, grid, , , ,N
Point25,xy, , ,in, deg, , ,N, , ,E, grid, , , ,N
Point26,xy, , ,in, deg, , ,N, , ,E, grid, , , ,N
Point27,xy, , ,in, deg, , ,N, , ,E, grid, , , ,N
Point28,xy, , ,in, deg, , ,N, , ,E, grid, , , ,N
Point29,xy, , ,in, deg, , ,N, , ,E, grid, , , ,N
Point30,xy, , ,in, deg, , ,N, , ,E, grid, , , ,N
Projection Setup, 0.000000000, 15.000000000, 1.000000000, 5500000.00, 0.00,,,,,
Map Feature = MF ; Map Comment = MC These follow if they exist
Track File = TF These follow if they exist
Moving Map Parameters = MM? These follow if they exist
MM0,Yes
MMPNUM,4
MMPXY,1, 695, 700
MMPXY,2, 5978, 718
MMPXY,3, 5964, 5973
MMPXY,4, 678, 5936
MMPLL,1,15.8333333333333,53.1
MMPLL,2,16,53.1
MMPLL,3,16,53
MMPLL,4,15.8333333333333,53
MM1B,2.113627
LL Grid Setup
LLGRID,Yes,1 Min,Yes,255,16711680,0,1 Min,0,16777215,8,1,Yes,x
Other Grid Setup
GRGRID,Yes,1 Km,Yes,255,255,1 Km,255,16777215,8,0,Yes,No,Yes,x
MOP,Map Open Position,0,0
IWH,Map Image Width/Height,6953,6860
