OziExplorer Map Data File Version 2.2
2391_Gr_Schondammerau_agronomische_1904.jpg
F:\GOTOWE_Lipiec_2008\small\2391_Gr_Schondammerau_agronomische_1904.jpg
1 ,Map Code,
Potsdam Rauenberg DHDN,, 0.0000, 0.0000,WGS 84
Reserved 1
Reserved 2
Magnetic Variation,,,E
Map Projection,Transverse Mercator,PolyCal,No,AutoCalOnly,No,BSBUseWPX,No
Point01,xy, 479, 972,in, deg, 53, 42,N, 20, 50,E, grid, , , ,N
Point02,xy, 5665, 950,in, deg, 53, 42,N, 21, 0,E, grid, , , ,N
Point03,xy, 5674, 6199,in, deg, 53, 36,N, 21, 0,E, grid, , , ,N
Point04,xy, 482, 6219,in, deg, 53, 36,N, 20, 50,E, grid, , , ,N
Point05,xy, , ,in, deg, , ,N, , ,E, grid, , , ,N
Point06,xy, , ,in, deg, , ,N, , ,E, grid, , , ,N
Point07,xy, , ,in, deg, , ,N, , ,E, grid, , , ,N
Point08,xy, , ,in, deg, , ,N, , ,E, grid, , , ,N
Point09,xy, , ,in, deg, , ,N, , ,E, grid, , , ,N
Point10,xy, , ,in, deg, , ,N, , ,E, grid, , , ,N
Point11,xy, , ,in, deg, , ,N, , ,E, grid, , , ,N
Point12,xy, , ,in, deg, , ,N, , ,E, grid, , , ,N
Point13,xy, , ,in, deg, , ,N, , ,E, grid, , , ,N
Point14,xy, , ,in, deg, , ,N, , ,E, grid, , , ,N
Point15,xy, , ,in, deg, , ,N, , ,E, grid, , , ,N
Point16,xy, , ,in, deg, , ,N, , ,E, grid, , , ,N
Point17,xy, , ,in, deg, , ,N, , ,E, grid, , , ,N
Point18,xy, , ,in, deg, , ,N, , ,E, grid, , , ,N
Point19,xy, , ,in, deg, , ,N, , ,E, grid, , , ,N
Point20,xy, , ,in, deg, , ,N, , ,E, grid, , , ,N
Point21,xy, , ,in, deg, , ,N, , ,E, grid, , , ,N
Point22,xy, , ,in, deg, , ,N, , ,E, grid, , , ,N
Point23,xy, , ,in, deg, , ,N, , ,E, grid, , , ,N
Point24,xy, , ,in, deg, , ,N, , ,E, grid, , , ,N
Point25,xy, , ,in, deg, , ,N, , ,E, grid, , , ,N
Point26,xy, , ,in, deg, , ,N, , ,E, grid, , , ,N
Point27,xy, , ,in, deg, , ,N, , ,E, grid, , , ,N
Point28,xy, , ,in, deg, , ,N, , ,E, grid, , , ,N
Point29,xy, , ,in, deg, , ,N, , ,E, grid, , , ,N
Point30,xy, , ,in, deg, , ,N, , ,E, grid, , , ,N
Projection Setup, 0.000000000, 21.000000000, 1.000000000, 7500000.00, 0.00,,,,,
Map Feature = MF ; Map Comment = MC These follow if they exist
Track File = TF These follow if they exist
Moving Map Parameters = MM? These follow if they exist
MM0,Yes
MMPNUM,4
MMPXY,1, 479, 972
MMPXY,2, 5665, 950
MMPXY,3, 5674, 6199
MMPXY,4, 482, 6219
MMPLL,1,20.8333333333333,53.7
MMPLL,2,21,53.7
MMPLL,3,21,53.6
MMPLL,4,20.8333333333333,53.6
MM1B,2.122741
LL Grid Setup
LLGRID,Yes,1 Min,Yes,255,16711680,0,1 Min,0,16777215,8,1,Yes,x
Other Grid Setup
GRGRID,Yes,1 Km,Yes,255,255,1 Km,255,16777215,8,0,Yes,No,Yes,x
MOP,Map Open Position,0,0
IWH,Map Image Width/Height,6145,7028
